BEGIN:VCALENDAR
VERSION:2.0
PRODID:Events Booking
BEGIN:VEVENT
UID:69e96a5ccf899
SUMMARY:ILEAP Recreation &  Multi Sports<br>Summer Term<br>12 years and ove
 r (2)
DESCRIPTION:
LOCATION:Banbury Rd\, Warwick\, Warwickshire CV34 4QY
DTSTART:20190705T180000Z
DTEND:20190705T190000Z
DTSTAMP:20260423T013956Z
ORGANIZER;CN=ILEAP Charity:MAILTO:sparkle@ileap.co.uk
GEO:52.281606;-1.580821
X-APPLE-STRUCTURED-LOCATION;VALUE=URI;X-ADDRESS=Banbury Rd\, Warwick\, Warw
 ickshire CV34 4QY;X-APPLE-RADIUS=72;X-TITLE=St Nicholas Park:52.281606;-1.
 580821
END:VEVENT
END:VCALENDAR