BEGIN:VCALENDAR
VERSION:2.0
PRODID:Events Booking
BEGIN:VEVENT
UID:69e94431edd76
SUMMARY:ILEAP Recreation &  Multi Sports<br>Summer Term<br>12 years and ove
 r
DESCRIPTION:
LOCATION:Myton Road\, Warwick CV34 6PP
DTSTART:20190503T180000Z
DTEND:20190503T190000Z
DTSTAMP:20260422T225705Z
ORGANIZER;CN=ILEAP Charity:MAILTO:sparkle@ileap.co.uk
GEO:52.279206;-1.575704
X-APPLE-STRUCTURED-LOCATION;VALUE=URI;X-ADDRESS=Myton Road\, Warwick CV34 6
 PP;X-APPLE-RADIUS=72;X-TITLE=Warwick School:52.279206;-1.575704
END:VEVENT
END:VCALENDAR