BEGIN:VCALENDAR
VERSION:2.0
PRODID:Events Booking
BEGIN:VEVENT
UID:69ed158b38f1a
SUMMARY:ILEAP River Boat Cruise and Park Life\, 12 yrs & over 
DESCRIPTION:A fully accessible River Boat Cruise and a Fun afternoon at the
  park
 
 11.00am Meet and Greet
 11.30am -12.15pm:&nbsp\;&nbsp\;River B
 oat Cruise
 12.30-1.30: Picnic in the Park
 1.30-3: Game of Rounders / P
 ark / Crazy Golf / Ferry Boat Ride / Big Wheel
 (bring £&nbsp\;for an ic
 e cream)
 
 Drop Off: Bancroft Gardens
 Pick up: Bancroft Gardens
 Inc
 luded in the price:
 
 River boat cruise
 Big Wheel&nbsp\;(If operating
 )
 
LOCATION:Crowne Plaza Stratford Bridgefoot Stratford-upon-Avon Warwickshire
  CV37 6YR
DTSTART:20200720T103000Z
DTEND:20200720T143000Z
DTSTAMP:20260425T202707Z
ORGANIZER;CN=ILEAP Charity:MAILTO:sparkle@ileap.co.uk
GEO:52.193684;-1.700684
X-APPLE-STRUCTURED-LOCATION;VALUE=URI;X-ADDRESS=Crowne Plaza Stratford Brid
 gefoot Stratford-upon-Avon Warwickshire CV37 6YR;X-APPLE-RADIUS=72;X-TITLE
 =Bancroft Cruisers:52.193684;-1.700684
END:VEVENT
END:VCALENDAR