BEGIN:VCALENDAR
VERSION:2.0
PRODID:Events Booking
BEGIN:VEVENT
UID:69e980951a742
SUMMARY:ILEAP River Boat Cruise and Park Life\, 12 years and over
DESCRIPTION:
LOCATION:Crowne Plaza Stratford Bridgefoot Stratford-upon-Avon Warwickshire
  CV37 6YR
DTSTART:20190722T100000Z
DTEND:20190722T140000Z
DTSTAMP:20260423T031445Z
ORGANIZER;CN=ILEAP Charity:MAILTO:sparkle@ileap.co.uk
GEO:52.193684;-1.700684
X-APPLE-STRUCTURED-LOCATION;VALUE=URI;X-ADDRESS=Crowne Plaza Stratford Brid
 gefoot Stratford-upon-Avon Warwickshire CV37 6YR;X-APPLE-RADIUS=72;X-TITLE
 =Bancroft Cruisers:52.193684;-1.700684
END:VEVENT
END:VCALENDAR