BEGIN:VCALENDAR
VERSION:2.0
PRODID:Events Booking
BEGIN:VEVENT
UID:69e89e3dae4ea
SUMMARY:ILEAP River “Pirate Party”<br>Cruise and Park Life<br>8+ yrs
DESCRIPTION:A fully accessible river PARTY BOAT cruise and fun afternoon at
  the park
 PIRATE FANCY DRESS OPTIONAL
LOCATION:Crowne Plaza Stratford Bridgefoot Stratford-upon-Avon Warwickshire
  CV37 6YR
DTSTART:20180722T100000Z
DTEND:20180722T140000Z
DTSTAMP:20260422T110901Z
ORGANIZER;CN=ILEAP Charity:MAILTO:sparkle@ileap.co.uk
GEO:52.193684;-1.700684
X-APPLE-STRUCTURED-LOCATION;VALUE=URI;X-ADDRESS=Crowne Plaza Stratford Brid
 gefoot Stratford-upon-Avon Warwickshire CV37 6YR;X-APPLE-RADIUS=72;X-TITLE
 =Bancroft Cruisers:52.193684;-1.700684
END:VEVENT
END:VCALENDAR