BEGIN:VCALENDAR
VERSION:2.0
PRODID:Events Booking
BEGIN:VEVENT
UID:69e9468b1ed3a
SUMMARY:ILEAP Saturday Creative Cookery Class<br>Summer Term<br>8 years and
  over
DESCRIPTION:
LOCATION:Church St\, Stratford-upon-Avon CV37 6BE
DTSTART:20190518T090000Z
DTEND:20190518T111500Z
DTSTAMP:20260422T230707Z
ORGANIZER;CN=ILEAP Charity:MAILTO:sparkle@ileap.co.uk
GEO:52.190487;-1.706817
X-APPLE-STRUCTURED-LOCATION;VALUE=URI;X-ADDRESS=Church St\, Stratford-upon-
 Avon CV37 6BE;X-APPLE-RADIUS=72;X-TITLE=King Edward School:52.190487;-1.70
 6817
END:VEVENT
END:VCALENDAR