BEGIN:VCALENDAR
VERSION:2.0
PRODID:Events Booking
BEGIN:VEVENT
UID:69e9b659631f5
SUMMARY:ILEAP Saturday Learn to Cook Club<br>Autumn Term<br>8 years and ove
 r
DESCRIPTION:
LOCATION:Church St\, Stratford-upon-Avon CV37 6BE
DTSTART:20191012T090000Z
DTEND:20191012T111500Z
DTSTAMP:20260423T070409Z
ORGANIZER;CN=ILEAP Charity:MAILTO:sparkle@ileap.co.uk
GEO:52.190487;-1.706817
X-APPLE-STRUCTURED-LOCATION;VALUE=URI;X-ADDRESS=Church St\, Stratford-upon-
 Avon CV37 6BE;X-APPLE-RADIUS=72;X-TITLE=King Edward School:52.190487;-1.70
 6817
END:VEVENT
END:VCALENDAR