BEGIN:VCALENDAR
VERSION:2.0
PRODID:Events Booking
BEGIN:VEVENT
UID:69e97fe686336
SUMMARY:ILEAP Saturday Learn to Cook Club<br>Summer Term<br>8 years and ove
 r
DESCRIPTION:ILEAP Cookery is a great session\, We provide all the ingredien
 ts so you just need a container and an apron. Our recipes are super health
 y and we alternate each session between savoury and sweet. You take home w
 hat you cook or have it for lunch.
LOCATION:Church St\, Stratford-upon-Avon CV37 6BE
DTSTART:20190803T090000Z
DTEND:20190803T111500Z
DTSTAMP:20260423T031150Z
ORGANIZER;CN=ILEAP Charity:MAILTO:sparkle@ileap.co.uk
GEO:52.190487;-1.706817
X-APPLE-STRUCTURED-LOCATION;VALUE=URI;X-ADDRESS=Church St\, Stratford-upon-
 Avon CV37 6BE;X-APPLE-RADIUS=72;X-TITLE=King Edward School:52.190487;-1.70
 6817
END:VEVENT
END:VCALENDAR