BEGIN:VCALENDAR
VERSION:2.0
PRODID:Events Booking
BEGIN:VEVENT
UID:69e7342c769cb
SUMMARY:ILEAP & SPOT Drama<br> 11-16 yrs
DESCRIPTION:
LOCATION:Stratford Rd\, Warwick CV34 6LE\, UK
DTSTART:20180626T160000Z
DTEND:20180626T170000Z
DTSTAMP:20260421T092412Z
ORGANIZER;CN=ILEAP Charity:MAILTO:sparkle@ileap.co.uk
GEO:52.269365;-1.59916
X-APPLE-STRUCTURED-LOCATION;VALUE=URI;X-ADDRESS=Stratford Rd\, Warwick CV34
  6LE\, UK;X-APPLE-RADIUS=72;X-TITLE=The Playbox Theatre:52.269365;-1.59916
END:VEVENT
END:VCALENDAR