BEGIN:VCALENDAR
VERSION:2.0
PRODID:Events Booking
BEGIN:VEVENT
UID:69ecafc6ae621
SUMMARY:ILEAP & SPOT Drama Thursday Theatre\, for 8 - 16 years 
DESCRIPTION:
LOCATION:Alcester Rd\, Stratford-upon-Avon\, CV37 9DH\, UK
DTSTART:20200312T170000Z
DTEND:20200312T180000Z
DTSTAMP:20260425T131254Z
ORGANIZER;CN=ILEAP Charity:MAILTO:sparkle@ileap.co.uk
GEO:52.193676;-1.720444
X-APPLE-STRUCTURED-LOCATION;VALUE=URI;X-ADDRESS=Alcester Rd\, Stratford-upo
 n-Avon\, CV37 9DH\, UK;X-APPLE-RADIUS=72;X-TITLE=Stratford–on-Avon High 
 School:52.193676;-1.720444
END:VEVENT
END:VCALENDAR