BEGIN:VCALENDAR
VERSION:2.0
PRODID:Events Booking
BEGIN:VEVENT
UID:69ea16e2719cd
SUMMARY:ILEAP & SPOT Drama Tuesdays<br>Spring Term<br>14 years and over
DESCRIPTION:
LOCATION:71 Coten End\, Warwick CV34 4NU\, UK
DTSTART:20190115T180000Z
DTEND:20190115T200000Z
DTSTAMP:20260423T135602Z
ORGANIZER;CN=ILEAP Charity:MAILTO:sparkle@ileap.co.uk
GEO:52.285147;-1.576784
X-APPLE-STRUCTURED-LOCATION;VALUE=URI;X-ADDRESS=71 Coten End\, Warwick CV34
  4NU\, UK;X-APPLE-RADIUS=72;X-TITLE=Warwickspace:52.285147;-1.576784
END:VEVENT
END:VCALENDAR