BEGIN:VCALENDAR
VERSION:2.0
PRODID:Events Booking
BEGIN:VEVENT
UID:69e97fe613bb2
SUMMARY:ILEAP Strike it Lucky Ten Pin Bowling Mondays <br>16 years and over
  
DESCRIPTION:includes 2 games of Bowling &amp\; a meal with Friends
LOCATION:Royal Leamington Spa\, Warwick CV34 6RH\, UK
DTSTART:20190729T173000Z
DTEND:20190729T193000Z
DTSTAMP:20260423T031150Z
ORGANIZER;CN=ILEAP Charity:MAILTO:sparkle@ileap.co.uk
GEO:52.279158;-1.545272
X-APPLE-STRUCTURED-LOCATION;VALUE=URI;X-ADDRESS=Royal Leamington Spa\, Warw
 ick CV34 6RH\, UK;X-APPLE-RADIUS=72;X-TITLE=Ten Pin 10\, Megabowl:52.27915
 8;-1.545272
END:VEVENT
END:VCALENDAR