BEGIN:VCALENDAR
VERSION:2.0
PRODID:Events Booking
BEGIN:VEVENT
UID:69e8c4dc444e1
SUMMARY:ILEAP SUNDAY  DAY TRIPPER<br> Warwick Castle Halloween Spook Fest<b
 r>8+ yrs
DESCRIPTION:Meet at the Castle Gates\, bring packed lunch and id
DTSTART:20181028T103000Z
DTEND:20181028T163000Z
DTSTAMP:20260422T135348Z
ORGANIZER;CN=ILEAP Charity:MAILTO:sparkle@ileap.co.uk
END:VEVENT
END:VCALENDAR