BEGIN:VCALENDAR
VERSION:2.0
PRODID:Events Booking
BEGIN:VEVENT
UID:69e8da30c56ce
SUMMARY:ILEAP SUNDAY  DAY TRIPPER<br>Birmingham Sea Life centre<br>8+ yrs)
DESCRIPTION:Minibus will depart from Stratford or Leamington
DTSTART:20181202T100000Z
DTEND:20181202T163000Z
DTSTAMP:20260422T152448Z
ORGANIZER;CN=ILEAP Charity:MAILTO:sparkle@ileap.co.uk
END:VEVENT
END:VCALENDAR