BEGIN:VCALENDAR
VERSION:2.0
PRODID:Events Booking
BEGIN:VEVENT
UID:69e72f739ba90
SUMMARY:ILEAP Ten Pin Bowling<br>14+ yrs
DESCRIPTION:2 games and a junior meal
LOCATION:Royal Leamington Spa\, Warwick CV34 6RH\, UK
DTSTART:20180730T173000Z
DTEND:20180730T193000Z
DTSTAMP:20260421T090403Z
ORGANIZER;CN=ILEAP Charity:MAILTO:sparkle@ileap.co.uk
GEO:52.279158;-1.545272
X-APPLE-STRUCTURED-LOCATION;VALUE=URI;X-ADDRESS=Royal Leamington Spa\, Warw
 ick CV34 6RH\, UK;X-APPLE-RADIUS=72;X-TITLE=Ten Pin 10\, Megabowl:52.27915
 8;-1.545272
END:VEVENT
END:VCALENDAR