BEGIN:VCALENDAR
VERSION:2.0
PRODID:Events Booking
BEGIN:VEVENT
UID:69e735f50bb79
SUMMARY:ILEAP to Hatton Country World<br>for some Summer Fun & Frolics<br>8
 + yrs
DESCRIPTION:“Enjoy a picnic and a great day out!”
LOCATION:Dark Lane\, Hatton\,  CV35 8XA
DTSTART:20180805T093000Z
DTEND:20180805T153000Z
DTSTAMP:20260421T093149Z
ORGANIZER;CN=ILEAP Charity:MAILTO:sparkle@ileap.co.uk
GEO:52.293584;-1.655767
X-APPLE-STRUCTURED-LOCATION;VALUE=URI;X-ADDRESS=Dark Lane\, Hatton\,  CV35 
 8XA;X-APPLE-RADIUS=72;X-TITLE=Hatton Adventure World:52.293584;-1.655767
END:VEVENT
END:VCALENDAR