BEGIN:VCALENDAR
VERSION:2.0
PRODID:Events Booking
BEGIN:VEVENT
UID:69e994177104d
SUMMARY:ILEAP to Kenilworth Castle for Hands on Medieval History and a refr
 eshing dip in the pool at Abbey Fields\,  12 yrs and over
DESCRIPTION:
LOCATION:Castle Green\, Kenilworth CV8 1NG
DTSTART:20190818T093000Z
DTEND:20190818T143000Z
DTSTAMP:20260423T043759Z
ORGANIZER;CN=ILEAP Charity:MAILTO:sparkle@ileap.co.uk
GEO:52.348725;-1.591053
X-APPLE-STRUCTURED-LOCATION;VALUE=URI;X-ADDRESS=Castle Green\, Kenilworth C
 V8 1NG;X-APPLE-RADIUS=72;X-TITLE=Kenilworth Castle:52.348725;-1.591053
END:VEVENT
END:VCALENDAR