BEGIN:VCALENDAR
VERSION:2.0
PRODID:Events Booking
BEGIN:VEVENT
UID:69e9dc350e462
SUMMARY:ILEAP to Kenilworth Castle for Hands on Medieval History<br>Followe
 d by a dip in the pool at Abbey Fields<br> 8+ yrs
DESCRIPTION:Bring a packed Lunch
 Bring your swim kit
 Bring £1 for the 
 locker
LOCATION:Castle Green\, Kenilworth CV8 1NG
DTSTART:20180819T090000Z
DTEND:20180819T153000Z
DTSTAMP:20260423T094541Z
ORGANIZER;CN=ILEAP Charity:MAILTO:sparkle@ileap.co.uk
GEO:52.348725;-1.591053
X-APPLE-STRUCTURED-LOCATION;VALUE=URI;X-ADDRESS=Castle Green\, Kenilworth C
 V8 1NG;X-APPLE-RADIUS=72;X-TITLE=Kenilworth Castle:52.348725;-1.591053
END:VEVENT
END:VCALENDAR