BEGIN:VCALENDAR
VERSION:2.0
PRODID:Events Booking
BEGIN:VEVENT
UID:69e8b0f6cf983
SUMMARY:ILEAP to St Patricks Irish Club for a Disco<br>18+ yrs
DESCRIPTION:bring £3.50 entrance and £ for drinks
DTSTART:20181010T180000Z
DTEND:20181010T200000Z
DTSTAMP:20260422T122854Z
ORGANIZER;CN=ILEAP Charity:MAILTO:sparkle@ileap.co.uk
END:VEVENT
END:VCALENDAR