BEGIN:VCALENDAR
VERSION:2.0
PRODID:Events Booking
BEGIN:VEVENT
UID:69e8b103e8c3d
SUMMARY:ILEAP to St Patricks Irish Club for a Disco<br>18+ yrs
DESCRIPTION:bring £3.50 entrance and £ for drinks
DTSTART:20180912T180000Z
DTEND:20180912T200000Z
DTSTAMP:20260422T122907Z
ORGANIZER;CN=ILEAP Charity:MAILTO:sparkle@ileap.co.uk
END:VEVENT
END:VCALENDAR