BEGIN:VCALENDAR
VERSION:2.0
PRODID:Events Booking
BEGIN:VEVENT
UID:69e8da78dac27
SUMMARY:ILEAP to St Patricks Irish Club for a Disco<br>18+ yrs
DESCRIPTION:bring £3.50 entrance and £ for drinks
DTSTART:20181114T190000Z
DTEND:20181114T210000Z
DTSTAMP:20260422T152600Z
ORGANIZER;CN=ILEAP Charity:MAILTO:sparkle@ileap.co.uk
END:VEVENT
END:VCALENDAR