BEGIN:VCALENDAR
VERSION:2.0
PRODID:Events Booking
BEGIN:VEVENT
UID:69e97144e3769
SUMMARY:ILEAP to St Patricks Irish Club for a Disco<br>2nd Wed of the month
 <br>18 years and over
DESCRIPTION:
DTSTART:20190710T180000Z
DTEND:20190710T200000Z
DTSTAMP:20260423T020924Z
ORGANIZER;CN=ILEAP Charity:MAILTO:sparkle@ileap.co.uk
END:VEVENT
END:VCALENDAR