BEGIN:VCALENDAR
VERSION:2.0
PRODID:Events Booking
BEGIN:VEVENT
UID:69e9cc6b1d2e4
SUMMARY:ILEAP to St Patricks Irish Club for a Disco\, 18 years and over
DESCRIPTION:
DTSTART:20191113T190000Z
DTEND:20191113T210000Z
DTSTAMP:20260423T083819Z
ORGANIZER;CN=ILEAP Charity:MAILTO:sparkle@ileap.co.uk
END:VEVENT
END:VCALENDAR