BEGIN:VCALENDAR
VERSION:2.0
PRODID:Events Booking
BEGIN:VEVENT
UID:69e8ef4c8261a
SUMMARY:ILEAP to St Patricks Irish Club for a Disco<br>2nd Wed of the month
 <br>18 years and over
DESCRIPTION:
DTSTART:20190109T190000Z
DTEND:20190109T210000Z
DTSTAMP:20260422T165452Z
ORGANIZER;CN=ILEAP Charity:MAILTO:sparkle@ileap.co.uk
END:VEVENT
END:VCALENDAR