BEGIN:VCALENDAR
VERSION:2.0
PRODID:Events Booking
BEGIN:VEVENT
UID:69e734ab7ba5d
SUMMARY:ILEAP TO THE Irish Club Disco<br>18+ yrs
DESCRIPTION:Let your hair down and dance
DTSTART:20180808T180000Z
DTEND:20180808T200000Z
DTSTAMP:20260421T092619Z
ORGANIZER;CN=ILEAP Charity:MAILTO:sparkle@ileap.co.uk
END:VEVENT
END:VCALENDAR