BEGIN:VCALENDAR
VERSION:2.0
PRODID:Events Booking
BEGIN:VEVENT
UID:69ed3c1998551
SUMMARY:ILEAP to Vue for a great Movie in May HT Holiday 2025\,  for 12 yea
 rs and over 
DESCRIPTION:Price includes Cinema Ticket to watch Disney's newest live acti
 on: Lilo and Stitch
 Bring £ for popcorn / drinks or bring your own!
 W
 e will confirm the film and the time nearer the time
 Why not book for th
 e afternoon Canoe / Kayak &nbsp\;session at 1.30pm\, bring a packed lunch 
 and spend the whole day with us\, we will support you over lunch!
LOCATION:Portland Place\, Leamington Spa CV32 5ET\, UK
DTSTART:20250528T094500Z
DTEND:20250528T001000Z
DTSTAMP:20260425T231137Z
ORGANIZER;CN=ILEAP Charity:MAILTO:sparkle@ileap.co.uk
GEO:52.288839;-1.53832
X-APPLE-STRUCTURED-LOCATION;VALUE=URI;X-ADDRESS=Portland Place\, Leamington
  Spa CV32 5ET\, UK;X-APPLE-RADIUS=72;X-TITLE=Vue Cinema:52.288839;-1.53832
END:VEVENT
END:VCALENDAR