BEGIN:VCALENDAR
VERSION:2.0
PRODID:Events Booking
BEGIN:VEVENT
UID:69ec9d7dc7179
SUMMARY:ILEAP to Warwick Castle for a Halloween Adventure: 16 years and ove
 r
DESCRIPTION:Halloween Family &nbsp\;Fun at Warwick Castle&nbsp\;
 Its alwa
 ys a great day at Warwick Castle\, youll have so much fun it will be Histo
 rical!
 Dress for the weather\,&nbsp\;
 Bring a packed lunch &nbsp\;and 
 a drink and some money for the cafe and gift shop.
 We will follow the it
 inerary and see all the sights. Its a little medieval underfoot with cobbl
 es and some uneven ground so wear sensible footwear.
 Dress for the weath
 er
LOCATION:Warwick\, CV34 4QU
DTSTART:20251102T103000Z
DTEND:20251102T150000Z
DTSTAMP:20251013T123642Z
ORGANIZER;CN=ILEAP Charity:MAILTO:sparkle@ileap.co.uk
GEO:52.279915;-1.585475
X-APPLE-STRUCTURED-LOCATION;VALUE=URI;X-ADDRESS=Warwick\, CV34 4QU;X-APPLE-
 RADIUS=72;X-TITLE=Warwick Castle:52.279915;-1.585475
END:VEVENT
END:VCALENDAR