BEGIN:VCALENDAR
VERSION:2.0
PRODID:Events Booking
BEGIN:VEVENT
UID:69ed370778869
SUMMARY:ILEAP Trustee Meeting 
DESCRIPTION:
LOCATION:Masons Road\, Stratford-upon-Avon\, Warwickshire\, CV37 9NB
DTSTART:20200818T173000Z
DTEND:20200818T193000Z
DTSTAMP:20260425T224959Z
ORGANIZER;CN=ILEAP Charity:MAILTO:sparkle@ileap.co.uk
GEO:52.197449;-1.722335
X-APPLE-STRUCTURED-LOCATION;VALUE=URI;X-ADDRESS=Masons Road\, Stratford-upo
 n-Avon\, Warwickshire\, CV37 9NB;X-APPLE-RADIUS=72;X-TITLE=Foundation Hous
 e:52.197449;-1.722335
END:VEVENT
END:VCALENDAR