BEGIN:VCALENDAR
VERSION:2.0
PRODID:Events Booking
BEGIN:VEVENT
UID:69ec9cd749855
SUMMARY:ILEAP Trustee Meeting
DESCRIPTION:Room Number: The Snug\, first floor\, upstairs\, on the right C
 hair: SS Apologies: Minutes: PB Present:
 AGENDA
 
 Apologies for absen
 ce and Welcome
 Minutes of the last meeting
 Points of Action
 Project 
 Update:• PB – Overview and 2020 Forecast:• PB - Funding Update• PB
  – Complaints / Feedback• NT – Volunteer and New Member Update:• C
 H – Children’s Programme Update:NT and CH to leave after their updates
 
 Financial Overview: PW
 AOB • Trustee Requests • AGM
 
 Dates of
  forthcoming meeting
 7pm -9pm at Foundation Hose
 Dates for 2020: April
  or May AGM (TBC)\, 11th May\, 28th Sept\, 7th Dec 2020
LOCATION:Masons Road\, Stratford-upon-Avon\, Warwickshire\, CV37 9NB
DTSTART:20200224T190000Z
DTEND:20200224T210000Z
DTSTAMP:20260425T115207Z
ORGANIZER;CN=ILEAP Charity:MAILTO:sparkle@ileap.co.uk
GEO:52.197449;-1.722335
X-APPLE-STRUCTURED-LOCATION;VALUE=URI;X-ADDRESS=Masons Road\, Stratford-upo
 n-Avon\, Warwickshire\, CV37 9NB;X-APPLE-RADIUS=72;X-TITLE=Foundation Hous
 e:52.197449;-1.722335
END:VEVENT
END:VCALENDAR