BEGIN:VCALENDAR
VERSION:2.0
PRODID:Events Booking
BEGIN:VEVENT
UID:69e73603d3b99
SUMMARY:*ILEAP Tuesday Night Meal at The Coach House in Stratford for membe
 rs 16 yrs & over : February Half  Term
DESCRIPTION:Enjoy a meal with friends in this great pub in the heart of Str
 atford\, this February Half Term
 They serve all the pub classics and the
  puddings are &nbsp\;delicious.&nbsp\;
 Bring £ for your meal and drinks
 .&nbsp\;
 This is a social group of ILEAP friends who love a night out to
 gether\, so join them for a great evening in a safe and welcoming venue.

  A pre order may be requested prior to the event
 &nbsp\;
 &nbsp\;
LOCATION:42 Rother St\, Stratford-upon-Avon CV37 6LP\, UK
DTSTART:20260217T183000Z
DTEND:20260217T210000Z
DTSTAMP:20250423T101019Z
ORGANIZER;CN=ILEAP Charity:MAILTO:sparkle@ileap.co.uk
GEO:52.192154;-1.710097
X-APPLE-STRUCTURED-LOCATION;VALUE=URI;X-ADDRESS=42 Rother St\, Stratford-up
 on-Avon CV37 6LP\, UK;X-APPLE-RADIUS=72;X-TITLE=The Coach House Pub:52.192
 154;-1.710097
END:VEVENT
END:VCALENDAR