BEGIN:VCALENDAR
VERSION:2.0
PRODID:Events Booking
BEGIN:VEVENT
UID:69e7365bd9701
SUMMARY:*ILEAP Wednesday Night Meal at The Hungry Horse in Warwick for memb
 ers 16 yrs & over: Spring Term
DESCRIPTION:Enjoy a scruptuous meal with your ILEAP friends in this great p
 ub. &nbsp\;They serve all the pub classics and the puddings are delicious.
 &nbsp\;
 Bring £ for your meal and drinks.&nbsp\;
 This is a social gro
 up of ILEAP friends who love a night out together\, so join them for a gre
 at evening in a safe and welcoming venue.
 A pre order may be requested p
 rior to the event depending on the time of year.
 18th February - Royal H
 orse\, Warwick
 18th March - The Green Man\, Kenilworth
 15th April - Ro
 yal Horse\, Warwick
 20th May - The Green Man\, Kenilworth
 17th June - 
 Royal Horse\, Warwick
 15th July - The Green Man\, Kenilworth
 19th Augu
 st - Royal Horse\, Warwick
 &nbsp\;
LOCATION:Poseidon Way\, Royal Leamington Spa\, Warwick CV34 6SW\, UK
DTSTART:20260218T183000Z
DTEND:20260218T210000Z
DTSTAMP:20250912T093402Z
ORGANIZER;CN=ILEAP Charity:MAILTO:sparkle@ileap.co.uk
GEO:52.269168;-1.537174
X-APPLE-STRUCTURED-LOCATION;VALUE=URI;X-ADDRESS=Poseidon Way\, Royal Leamin
 gton Spa\, Warwick CV34 6SW\, UK;X-APPLE-RADIUS=72;X-TITLE=The Hungry Hors
 e:52.269168;-1.537174
END:VEVENT
END:VCALENDAR