BEGIN:VCALENDAR
VERSION:2.0
PRODID:Events Booking
BEGIN:VEVENT
UID:69ecc84f58283
SUMMARY:ILEAP Wednesday Night Meal in Warwick for members 16 yrs & over : A
 utumn Term
DESCRIPTION:Enjoy a meal with friends in this great country pub.
 They ser
 ve all the pub classics and the puddings are &nbsp\;delicious.&nbsp\;
 Br
 ing £ for your meal and drinks.&nbsp\;
 This is a social group of ILEAP 
 friends who love a night out together\, so join them for a great evening i
 n a safe and welcoming venue.
 A pre order may be requested prior to the 
 event
 We alternate every month to add a bit of variety\, see dates and v
 enues below and against each booking date.
 Hungry Horse
 24th September
 &nbsp\;
 26th November
 Racehorse
 22nd October
 10th December
LOCATION:Poseidon Way\, Royal Leamington Spa\, Warwick CV34 6SW\, UK
DTSTART:20250924T173000Z
DTEND:20250924T200000Z
DTSTAMP:20260425T145735Z
ORGANIZER;CN=ILEAP Charity:MAILTO:sparkle@ileap.co.uk
GEO:52.269168;-1.537174
X-APPLE-STRUCTURED-LOCATION;VALUE=URI;X-ADDRESS=Poseidon Way\, Royal Leamin
 gton Spa\, Warwick CV34 6SW\, UK;X-APPLE-RADIUS=72;X-TITLE=The Hungry Hors
 e:52.269168;-1.537174
END:VEVENT
END:VCALENDAR