BEGIN:VCALENDAR
VERSION:2.0
PRODID:Events Booking
BEGIN:VEVENT
UID:69e9dc670ddc3
SUMMARY:ILEAP Wellbeing Wednesdays: Autumn Term 2025: 16 years and over: 10
 .30am -3pm  
DESCRIPTION:you are booking for the Autumn Term 2025 x £45 per session
 W
 ellbeing Wednesday will be the highlight of your week! We will meet in Jep
 hson Studios in the Temperate Glass House in Jephson Gardens
 Purposeful 
 day time activities at our fantastic new venue in the heart of Royal Leami
 ngton Spa
 This brilliant space will be our home for the day and we’ll 
 meet every Wednesday during term time and take part in activities that lif
 t the soul.
 Arts and Crafts\, Music and Games\, Cookery\, Gardening and 
 Horticulture\, Sports and Activities all designed to make us smile and lau
 gh.
 We will head out into the community for user led on our doorstep adv
 entures\, all included in the price. Things like Cinema Trips\, Games Cafe
 \, Boating\, Leisure Centre\, Shopping\, Museums\, Day Trips all user -led
  and included in the price.
 We will incorpate a healthy lunch such as pa
 nini\, soup\, toastie that you will help to prep and prepare (occasionally
  you will need to bring a packed lunch\, depending upon the activity.
 Fo
 r more info please text or email\, sparkle@ileap.co.uk and 07980 004381&nb
 sp\;
 Remember you can donate and or fundraise for the ILEAP Charity at w
 ww.justgiving.com/ileap&nbsp\;
LOCATION:Jephson Gardens\, Newbold Terrace\, Royal Leamington Spa\, Leaming
 ton Spa CV32 4AA\, UK
DTSTART:20251217T103000Z
DTEND:20251217T150000Z
DTSTAMP:20211028T085807Z
ORGANIZER;CN=ILEAP Charity:MAILTO:sparkle@ileap.co.uk
GEO:52.28858;-1.530455
X-APPLE-STRUCTURED-LOCATION;VALUE=URI;X-ADDRESS=Jephson Gardens\, Newbold T
 errace\, Royal Leamington Spa\, Leamington Spa CV32 4AA\, UK;X-APPLE-RADIU
 S=72;X-TITLE=Jephson Studio:52.28858;-1.530455
END:VEVENT
END:VCALENDAR