BEGIN:VCALENDAR
VERSION:2.0
PRODID:Events Booking
BEGIN:VEVENT
UID:69ec9d30c44da
SUMMARY:ILEAP’s Holiday Multi Activity Thursday Club\, 16 yrs and over\, 
 Oct Half Term 2025 
DESCRIPTION:Multi Activity Club is your chance to Shine!
 Purposeful day t
 ime activities at our fantastic venue.
 We start the day with a relaxed c
 hat\, moving in gently to a chilled out and informal activity\, making use
  of the outside sports area\, the garden\, the youth room\, and arts and c
 rafts area.&nbsp\;
 Personalised background music helps to keep that atmo
 sphere relaxed as individuals have the opportunity to get creative\, get a
 ctive and have fun in a variety of youth club type activities.
 We can pr
 ovide additional responsibilities depending upon each persons requirements
  and can tailor our programme to meet the needs of the individual or the g
 roup.
 Session runs every Tuesday and Thursday during the school holidays
 
 Remember you can donate and or fundraise for the ILEAP Charity at www.j
 ustgiving.com/ileap&nbsp\;
 We have special guests from either In2Culture
 s\, Fit4Kids\, Rockschool
LOCATION:Abbey End Car Park\, Abbey End\, Kenilworth CV8 1JP
DTSTART:20251030T103000Z
DTEND:20251030T150000Z
DTSTAMP:20260425T115336Z
ORGANIZER;CN=ILEAP Charity:MAILTO:sparkle@ileap.co.uk
GEO:52.344216;-1.578651
X-APPLE-STRUCTURED-LOCATION;VALUE=URI;X-ADDRESS=Abbey End Car Park\, Abbey 
 End\, Kenilworth CV8 1JP;X-APPLE-RADIUS=72;X-TITLE=The Kenilworth Centre:5
 2.344216;-1.578651
END:VEVENT
END:VCALENDAR