BEGIN:VCALENDAR
VERSION:2.0
PRODID:Events Booking
BEGIN:VEVENT
UID:69e9d82fe7a70
SUMMARY:ILEAP’s MarketAbility Friday Dance<br>Autumn Term<br>16 years and
  over
DESCRIPTION:
LOCATION:Abbey End Car Park\, Abbey End\, Kenilworth CV8 1JP
DTSTART:20191129T100000Z
DTEND:20191129T123000Z
DTSTAMP:20260423T092831Z
ORGANIZER;CN=ILEAP Charity:MAILTO:sparkle@ileap.co.uk
GEO:52.344216;-1.578651
X-APPLE-STRUCTURED-LOCATION;VALUE=URI;X-ADDRESS=Abbey End Car Park\, Abbey 
 End\, Kenilworth CV8 1JP;X-APPLE-RADIUS=72;X-TITLE=The Kenilworth Centre:5
 2.344216;-1.578651
END:VEVENT
END:VCALENDAR