BEGIN:VCALENDAR
VERSION:2.0
PRODID:Events Booking
BEGIN:VEVENT
UID:69ed3cd3aa164
SUMMARY:Kenilworth Drive In Cinema: Shrek
DESCRIPTION:
LOCATION:The Gatehouse\, Leamington Road\, Kenilworth\, CV8 2LP
DTSTART:20200823T120000Z
DTEND:20200823T153000Z
DTSTAMP:20260425T231443Z
ORGANIZER;CN=ILEAP Charity:MAILTO:sparkle@ileap.co.uk
GEO:52.332536;-1.564549
X-APPLE-STRUCTURED-LOCATION;VALUE=URI;X-ADDRESS=The Gatehouse\, Leamington 
 Road\, Kenilworth\, CV8 2LP;X-APPLE-RADIUS=72;X-TITLE=Kenilworth Drive In 
 Cinema:52.332536;-1.564549
END:VEVENT
END:VCALENDAR