BEGIN:VCALENDAR
VERSION:2.0
PRODID:Events Booking
BEGIN:VEVENT
UID:69e8eda28f37d
SUMMARY:ILEAP One 4 the Boys\, Lads Club<br>12+ yrs
DESCRIPTION:LADS ONLY
 FITNESS SUITE&nbsp\; |&nbsp\;&nbsp\;ART &amp\; DESI
 GN&nbsp\; |&nbsp\;&nbsp\;GYM SESSION
LOCATION:Alcester Rd\, Stratford-upon-Avon\, CV37 9DH\, UK
DTSTART:20181208T123000Z
DTEND:20181208T153000Z
DTSTAMP:20260422T164746Z
ORGANIZER;CN=ILEAP Charity:MAILTO:sparkle@ileap.co.uk
GEO:52.193676;-1.720444
X-APPLE-STRUCTURED-LOCATION;VALUE=URI;X-ADDRESS=Alcester Rd\, Stratford-upo
 n-Avon\, CV37 9DH\, UK;X-APPLE-RADIUS=72;X-TITLE=Stratford–on-Avon High 
 School:52.193676;-1.720444
END:VEVENT
END:VCALENDAR