BEGIN:VCALENDAR
VERSION:2.0
PRODID:Events Booking
BEGIN:VEVENT
UID:69ecb042e4bd5
SUMMARY:Learn 2 Cook Club\, 12 yrs and over : Autumn Term 
DESCRIPTION:Each Session is £25.00
 Join us for a fantastic cookery sessi
 on. &nbsp\;
 We will alternate each session between a savoury and sweet r
 ecipe. ILEAP Staff and Volunteers will assist you and you get to take home
  your creations or have them for lunch!
 With a focus on creating a healt
 hy&nbsp\;balance\, the sessions will introduce and&nbsp\;explore ingredien
 ts to expand tastes in a&nbsp\;fun and exciting way.
 Bring a container t
 o take home your creation:
 Why not make a day of it and head over to Hea
 lthy Living Saturday Club\, for an afternoon of fun and friendship at The 
 Rosebird Community Hall!
LOCATION:Church St\, Stratford-upon-Avon CV37 6BE
DTSTART:20251018T090000Z
DTEND:20251018T110000Z
DTSTAMP:20231130T123152Z
ORGANIZER;CN=ILEAP Charity:MAILTO:sparkle@ileap.co.uk
GEO:52.190487;-1.706817
X-APPLE-STRUCTURED-LOCATION;VALUE=URI;X-ADDRESS=Church St\, Stratford-upon-
 Avon CV37 6BE;X-APPLE-RADIUS=72;X-TITLE=King Edward School:52.190487;-1.70
 6817
END:VEVENT
END:VCALENDAR