BEGIN:VCALENDAR
VERSION:2.0
PRODID:Events Booking
BEGIN:VEVENT
UID:69e956a103cf4
SUMMARY:Lets get Wild at Cotswold Wildlife Park\, 12 years and over
DESCRIPTION:
DTSTART:20190609T090000Z
DTEND:20190609T150000Z
DTSTAMP:20260423T001545Z
ORGANIZER;CN=ILEAP Charity:MAILTO:sparkle@ileap.co.uk
END:VEVENT
END:VCALENDAR