BEGIN:VCALENDAR
VERSION:2.0
PRODID:Events Booking
BEGIN:VEVENT
UID:69e8b2a01ee07
SUMMARY:Lets go to the Pub<br>18+ yrs
DESCRIPTION:Quiz\, Pool\, Darts\, Dominoes\, Cards\,&nbsp\;Traditional Pub 
 Games
LOCATION:34 Stratford Rd\, Warwick CV34 6AS\, UK
DTSTART:20181003T173000Z
DTEND:20181003T193000Z
DTSTAMP:20260422T123600Z
ORGANIZER;CN=ILEAP Charity:MAILTO:sparkle@ileap.co.uk
GEO:52.2752;-1.595763
X-APPLE-STRUCTURED-LOCATION;VALUE=URI;X-ADDRESS=34 Stratford Rd\, Warwick C
 V34 6AS\, UK;X-APPLE-RADIUS=72;X-TITLE=The Racehorse:52.2752;-1.595763
END:VEVENT
END:VCALENDAR