BEGIN:VCALENDAR
VERSION:2.0
PRODID:Events Booking
BEGIN:VEVENT
UID:69e8b04db4b4d
SUMMARY:Lets go to the Pub<br>18+ yrs
DESCRIPTION:Quiz\, Pool\, Darts\, Dominoes\, Cards\,&nbsp\;Traditional Pub 
 Games
LOCATION:64 Hardwick Field Ln\, Warwick CV34 6LN\, UK
DTSTART:20180905T173000Z
DTEND:20180904T230000Z
DTSTAMP:20260422T122605Z
ORGANIZER;CN=ILEAP Charity:MAILTO:sparkle@ileap.co.uk
GEO:52.268664;-1.607719
X-APPLE-STRUCTURED-LOCATION;VALUE=URI;X-ADDRESS=64 Hardwick Field Ln\, Warw
 ick CV34 6LN\, UK;X-APPLE-RADIUS=72;X-TITLE=The Unicorn:52.268664;-1.60771
 9
END:VEVENT
END:VCALENDAR