BEGIN:VCALENDAR
VERSION:2.0
PRODID:Events Booking
BEGIN:VEVENT
UID:69e72f74a0371
SUMMARY:Lets go to the Pub<br>18+ yrs
DESCRIPTION:Quiz\, Pool\, Darts\, Dominoes\, Cards\,&nbsp\;Traditional Pub 
 Games
LOCATION:Rose & Crown\, 15 Sheep St\, Stratford-upon-Avon CV37 6EF\, UK
DTSTART:20180801T173000Z
DTEND:20180801T193000Z
DTSTAMP:20260421T090404Z
ORGANIZER;CN=ILEAP Charity:MAILTO:sparkle@ileap.co.uk
GEO:52.191376;-1.705442
X-APPLE-STRUCTURED-LOCATION;VALUE=URI;X-ADDRESS=Rose & Crown\, 15 Sheep St\
 , Stratford-upon-Avon CV37 6EF\, UK;X-APPLE-RADIUS=72;X-TITLE=The Rose & C
 rown:52.191376;-1.705442
END:VEVENT
END:VCALENDAR