BEGIN:VCALENDAR
VERSION:2.0
PRODID:Events Booking
BEGIN:VEVENT
UID:69ed277103c93
SUMMARY:M8's Meet Up with Lydia: Voices 4 Choices: : All Ages
DESCRIPTION:
DTSTART:20200814T103000Z
DTEND:20200814T113000Z
DTSTAMP:20260425T214329Z
ORGANIZER;CN=ILEAP Charity:MAILTO:sparkle@ileap.co.uk
END:VEVENT
END:VCALENDAR