BEGIN:VCALENDAR
VERSION:2.0
PRODID:Events Booking
BEGIN:VEVENT
UID:69ed270c05499
SUMMARY:M8's Meet Up with Lydia: Voices 4 Choices: : All Ages
DESCRIPTION:
DTSTART:20200807T103000Z
DTEND:20200807T113000Z
DTSTAMP:20260425T214148Z
ORGANIZER;CN=ILEAP Charity:MAILTO:sparkle@ileap.co.uk
END:VEVENT
END:VCALENDAR