BEGIN:VCALENDAR
VERSION:2.0
PRODID:Events Booking
BEGIN:VEVENT
UID:69ed27a9c34c5
SUMMARY:M8's Meet Up with Paisley: Voices 4 Choices: All Ages
DESCRIPTION:
DTSTART:20200817T103000Z
DTEND:20200817T113000Z
DTSTAMP:20260425T214425Z
ORGANIZER;CN=ILEAP Charity:MAILTO:sparkle@ileap.co.uk
END:VEVENT
END:VCALENDAR