BEGIN:VCALENDAR
VERSION:2.0
PRODID:Events Booking
BEGIN:VEVENT
UID:69ed3b713ab38
SUMMARY:M8's Meet Up with Paisley: Voices 4 Choices: All Ages
DESCRIPTION:
DTSTART:20200824T103000Z
DTEND:20200824T113000Z
DTSTAMP:20260425T230849Z
ORGANIZER;CN=ILEAP Charity:MAILTO:sparkle@ileap.co.uk
END:VEVENT
END:VCALENDAR