BEGIN:VCALENDAR
VERSION:2.0
PRODID:Events Booking
BEGIN:VEVENT
UID:69ed3b8c7dd8f
SUMMARY:M8's Meet Up with Paisley: Voices 4 Choices: All Ages
DESCRIPTION:
DTSTART:20200825T103000Z
DTEND:20200825T113000Z
DTSTAMP:20260425T230916Z
ORGANIZER;CN=ILEAP Charity:MAILTO:sparkle@ileap.co.uk
END:VEVENT
END:VCALENDAR