BEGIN:VCALENDAR
VERSION:2.0
PRODID:Events Booking
BEGIN:VEVENT
UID:69ed14b01c20e
SUMMARY:M8's Meet Up with Paisley: Voices 4 Choices: All Ages
DESCRIPTION:
DTSTART:20200803T103000Z
DTEND:20200803T113000Z
DTSTAMP:20260425T202328Z
ORGANIZER;CN=ILEAP Charity:MAILTO:sparkle@ileap.co.uk
END:VEVENT
END:VCALENDAR