BEGIN:VCALENDAR
VERSION:2.0
PRODID:Events Booking
BEGIN:VEVENT
UID:69ed27a96248e
SUMMARY:M8's Meet Up with Rosie: Voices 4 Choices: All Ages
DESCRIPTION:
DTSTART:20200812T103000Z
DTEND:20200812T113000Z
DTSTAMP:20260425T214425Z
ORGANIZER;CN=ILEAP Charity:MAILTO:sparkle@ileap.co.uk
END:VEVENT
END:VCALENDAR