BEGIN:VCALENDAR
VERSION:2.0
PRODID:Events Booking
BEGIN:VEVENT
UID:69ed3b8b3d923
SUMMARY:M8's Meet Up with Rosie: Voices 4 Choices: All Ages
DESCRIPTION:
DTSTART:20200826T103000Z
DTEND:20200826T113000Z
DTSTAMP:20260425T230915Z
ORGANIZER;CN=ILEAP Charity:MAILTO:sparkle@ileap.co.uk
END:VEVENT
END:VCALENDAR